View In:
ArcGIS JavaScript
ArcGIS Online Map Viewer
ArcGIS Earth
ArcGIS Pro
Service Description: Die Hochwassergefährdung wird durch die auftretende Wassertiefe, gegebenenfalls auch Fließgeschwindigkeit und durch die Jährlichkeit (statistisches Wiederkehrintervall in Jahren) bestimmt. Die Ausdehnung der überschwemmten Fläche kann dabei neben dem Abfluss auch durch Rückstau infolge Geschiebe- und Treibgutablagerungen beeinflusst sein.
Map Name: hochwassergefaehrdung_rastercache_hqextrem
Legend
All Layers and Tables
Layers:
Description: Die Hochwassergefährdung wird durch die auftretende Wassertiefe, gegebenenfalls auch Fließgeschwindigkeit und durch die Jährlichkeit (statistisches Wiederkehrintervall in Jahren) bestimmt. Die Ausdehnung der überschwemmten Fläche kann dabei neben dem Abfluss auch durch Rückstau infolge Geschiebe- und Treibgutablagerungen beeinflusst sein.
Service Item Id: 74b84f7606814e3b81d25f63b2fa6e79
Copyright Text: Datenlizenz Deutschland 2.0 - Variante mit Namensnennung
Spatial Reference:
25833
(25833)
LatestVCSWkid(0)
Single Fused Map Cache: true
Tile Info:
- Height: 256.0
- Width: 256.0
- DPI: 96.0
-
Levels of Detail: 19
-
Level ID: 0
[ Start Tile, End Tile ]
- Resolution: 78109.09330419017
- Scale: 2.952154707559943E8
-
Level ID: 1
[ Start Tile, End Tile ]
- Resolution: 39054.54665209509
- Scale: 1.4760773537799716E8
-
Level ID: 2
[ Start Tile, End Tile ]
- Resolution: 19527.273326047543
- Scale: 7.380386768899858E7
-
Level ID: 3
[ Start Tile, End Tile ]
- Resolution: 9763.636663023772
- Scale: 3.690193384449929E7
-
Level ID: 4
[ Start Tile, End Tile ]
- Resolution: 4881.818331511886
- Scale: 1.8450966922249645E7
-
Level ID: 5
[ Start Tile, End Tile ]
- Resolution: 2440.909165755943
- Scale: 9225483.461124822
-
Level ID: 6
[ Start Tile, End Tile ]
- Resolution: 1220.4545828779715
- Scale: 4612741.730562411
-
Level ID: 7
[ Start Tile, End Tile ]
- Resolution: 610.2272914389857
- Scale: 2306370.8652812056
-
Level ID: 8
[ Start Tile, End Tile ]
- Resolution: 305.11364571949287
- Scale: 1153185.4326406028
-
Level ID: 9
[ Start Tile, End Tile ]
- Resolution: 152.55682285974643
- Scale: 576592.7163203014
-
Level ID: 10
[ Start Tile, End Tile ]
- Resolution: 76.27841142987322
- Scale: 288296.3581601507
-
Level ID: 11
[ Start Tile, End Tile ]
- Resolution: 38.13920571493661
- Scale: 144148.17908007535
-
Level ID: 12
[ Start Tile, End Tile ]
- Resolution: 19.069602857468304
- Scale: 72074.08954003768
-
Level ID: 13
[ Start Tile, End Tile ]
- Resolution: 9.534801428734152
- Scale: 36037.04477001884
-
Level ID: 14
[ Start Tile, End Tile ]
- Resolution: 4.767400714367076
- Scale: 18018.52238500942
-
Level ID: 15
[ Start Tile, End Tile ]
- Resolution: 2.383700357183538
- Scale: 9009.26119250471
-
Level ID: 16
[ Start Tile, End Tile ]
- Resolution: 1.191850178591769
- Scale: 4504.630596252355
-
Level ID: 17
[ Start Tile, End Tile ]
- Resolution: 0.5959250892958845
- Scale: 2252.3152981261774
-
Level ID: 18
[ Start Tile, End Tile ]
- Resolution: 0.29796254464794225
- Scale: 1126.1576490630887
- Format: PNG
- Compression Quality: 0.0
- Origin: X: -9497963.942936342
Y: 9997963.942936342
- Spatial Reference: 25833
(25833)
LatestVCSWkid(0)
Storage Info:
- Storage Format: esriMapCacheStorageModeCompactV2
- Packet Size: 128
Initial Extent:
XMin: 186696.8922910537
YMin: 5529575.397795032
XMax: 601141.0545127126
YMax: 5766854.205685982
Spatial Reference: 25833
(25833)
LatestVCSWkid(0)
Full Extent:
XMin: 290426.5
YMin: 5572297.280200001
XMax: 502923.8195000002
YMax: 5728199.3331
Spatial Reference: 25833
(25833)
LatestVCSWkid(0)
Units: esriMeters
Supported Image Format Types: PNG32,PNG24,PNG,JPG,DIB,TIFF,EMF,PS,PDF,GIF,SVG,SVGZ,BMP
Document Info:
Title: Hochwassergefaehrdung
Author:
Comments: Die Hochwassergefährdung wird durch die auftretende Wassertiefe, gegebenenfalls auch Fließgeschwindigkeit und durch die Jährlichkeit (statistisches Wiederkehrintervall in Jahren) bestimmt. Die Ausdehnung der überschwemmten Fläche kann dabei neben dem Abfluss auch durch Rückstau infolge Geschiebe- und Treibgutablagerungen beeinflusst sein.
Subject: Gefahrenkarten für Ortslagen
Category:
Keywords: Wasser
AntialiasingMode: Fast
TextAntialiasingMode: Force
Supports Dynamic Layers: false
MaxRecordCount: 1000
MaxSelectionCount: 0
MaxImageHeight: 4096
MaxImageWidth: 4096
Supported Query Formats: JSON, geoJSON, PBF
Supports Query Data Elements: true
Min Scale: 6000000
Max Scale: 1250
Min LOD: 5
Max LOD: 18
Supports Datum Transformation: true
Child Resources:
Info
Supported Operations:
QueryLegends
EstimateExportTilesSize
ExportTiles
Return Updates