{
 "currentVersion": 11.5,
 "cimVersion": "3.5.0",
 "serviceDescription": "Die Karte stellt die Hangneigung kleiner gleich 20 Prozent und größer 20 Prozent dar. Sind mehr als 30% der Fläche eines Grünlandschlages oder eines Ackerschlages mit mehrschnittigem Feldfutterbau in der Klasse größer 20 Prozent, ist der Schlag von den Vorgaben des § 6 Abs. 3 Satz 2 DüV, wonach flüssige organische und flüssige organisch-mineralische Düngemittel, einschließlich flüssiger Wirtschaftsdünger, mit wesentlichem Gehalt an verfügbarem Stickstoff oder Ammoniumstickstoff auf Grünland und auf Ackerflächen mit mehrschnittigem Feldfutterbau ab dem 01. Februar 2025 nur noch streifenförmig auf den Boden aufgebracht oder direkt in den Boden eingebracht werden dürfen, befreit.<\/span>",
 "mapName": "Karte",
 "description": "Die Karte stellt die Hangneigung kleiner gleich 20 Prozent und größer 20 Prozent dar. Sind mehr als 30% der Fläche eines Grünlandschlages oder eines Ackerschlages mit mehrschnittigem Feldfutterbau in der Klasse größer 20 Prozent, ist der Schlag von den Vorgaben des § 6 Abs. 3 Satz 2 DüV, wonach flüssige organische und flüssige organisch-mineralische Düngemittel, einschließlich flüssiger Wirtschaftsdünger, mit wesentlichem Gehalt an verfügbarem Stickstoff oder Ammoniumstickstoff auf Grünland und auf Ackerflächen mit mehrschnittigem Feldfutterbau ab dem 01. Februar 2025 nur noch streifenförmig auf den Boden aufgebracht oder direkt in den Boden eingebracht werden dürfen, befreit.",
 "copyrightText": "",
 "supportsDynamicLayers": true,
 "layers": [
  {
   "id": 0,
   "name": "HANGNEIGUNG_20PROZENT",
   "parentLayerId": -1,
   "defaultVisibility": true,
   "subLayerIds": null,
   "minScale": 0,
   "maxScale": 0,
   "type": "Feature Layer",
   "geometryType": "esriGeometryPolygon",
   "supportsDynamicLegends": true
  }
 ],
 "tables": [],
 "spatialReference": {
  "wkid": 25833,
  "latestWkid": 25833,
  "xyTolerance": 0.001,
  "zTolerance": 0.001,
  "mTolerance": 0.001,
  "falseX": -5120900,
  "falseY": -9998100,
  "xyUnits": 10000,
  "falseZ": -100000,
  "zUnits": 10000,
  "falseM": -100000,
  "mUnits": 10000
 },
 "singleFusedMapCache": true,
 "tileInfo": {
  "rows": 256,
  "cols": 256,
  "dpi": 96,
  "format": "PNG",
  "compressionQuality": 75,
  "origin": {
   "x": -5120900,
   "y": 9.00709927374099E11
  },
  "spatialReference": {
   "wkid": 25833,
   "latestWkid": 25833,
   "xyTolerance": 0.001,
   "zTolerance": 0.001,
   "mTolerance": 0.001,
   "falseX": -5120900,
   "falseY": -9998100,
   "xyUnits": 10000,
   "falseZ": -100000,
   "zUnits": 10000,
   "falseM": -100000,
   "mUnits": 10000
  },
  "lods": [
   {
    "level": 0,
    "resolution": 529.1677250021168,
    "scale": 2000000
   },
   {
    "level": 1,
    "resolution": 264.5838625010584,
    "scale": 1000000
   },
   {
    "level": 2,
    "resolution": 132.2919312505292,
    "scale": 500000
   },
   {
    "level": 3,
    "resolution": 66.1459656252646,
    "scale": 250000
   },
   {
    "level": 4,
    "resolution": 33.0729828126323,
    "scale": 125000
   },
   {
    "level": 5,
    "resolution": 16.933367200067735,
    "scale": 64000
   },
   {
    "level": 6,
    "resolution": 8.466683600033868,
    "scale": 32000
   },
   {
    "level": 7,
    "resolution": 4.233341800016934,
    "scale": 16000
   },
   {
    "level": 8,
    "resolution": 2.116670900008467,
    "scale": 8000
   },
   {
    "level": 9,
    "resolution": 1.0583354500042335,
    "scale": 4000
   },
   {
    "level": 10,
    "resolution": 0.5291677250021167,
    "scale": 2000
   },
   {
    "level": 11,
    "resolution": 0.26458386250105836,
    "scale": 1000
   }
  ]
 },
 "storageInfo": {
  "storageFormat": "esriMapCacheStorageModeCompactV2",
  "packetSize": 128
 },
 "initialExtent": {
  "xmin": 87496.93889888295,
  "ymin": 5513011.184904291,
  "xmax": 683339.7972512664,
  "ymax": 5768599.196080313,
  "spatialReference": {
   "wkid": 25833,
   "latestWkid": 25833,
   "xyTolerance": 0.001,
   "zTolerance": 0.001,
   "mTolerance": 0.001,
   "falseX": -5120900,
   "falseY": -9998100,
   "xyUnits": 10000,
   "falseZ": -100000,
   "zUnits": 10000,
   "falseM": -100000,
   "mUnits": 10000
  }
 },
 "fullExtent": {
  "xmin": 278430,
  "ymin": 5561060,
  "xmax": 502935,
  "ymax": 5728000,
  "zmin": -100000,
  "zmax": 0,
  "mmin": null,
  "mmax": null,
  "spatialReference": {
   "wkid": 25833,
   "latestWkid": 25833,
   "xyTolerance": 0.001,
   "zTolerance": 0.001,
   "mTolerance": 0.001,
   "falseX": -5120900,
   "falseY": -9998100,
   "xyUnits": 10000,
   "falseZ": -100000,
   "zUnits": 10000,
   "falseM": -100000,
   "mUnits": 10000
  }
 },
 "datesInUnknownTimezone": false,
 "minScale": 2306370.8652812056,
 "maxScale": 36037.04477001884,
 "units": "esriMeters",
 "supportedImageFormatTypes": "PNG32,PNG24,PNG,JPG,DIB,TIFF,EMF,PS,PDF,GIF,SVG,SVGZ,BMP",
 "documentInfo": {
  "Title": "Hangneigung Ausbringung",
  "Author": "",
  "Comments": "Die Karte stellt die Hangneigung in den zwei Klassen kleiner gleich 20 Prozent und größer 20 Prozent dar. Sind mehr als 30% der Fläche eines Grünlandschlages oder eines Ackerschlages mit mehrschnittigem Feldfutterbau in der Klasse größer 20 Prozent, ist der Schlag von den Vorgaben des § 6 Abs. 3 Satz 2 DüV, wonach flüssige organische und flüssige organisch-mineralische Düngemittel, einschließlich flüssiger Wirtschaftsdünger, mit wesentlichem Gehalt an verfügbarem Stickstoff oder Ammoniumstickstoff auf Grünland und auf Ackerflächen mit mehrschnittigem Feldfutterbau ab dem 01. Februar 2025 nur noch streifenförmig auf den Boden aufgebracht oder direkt in den Boden eingebracht werden dürfen, befreit.",
  "Subject": "Die Hangneigung entspricht dem sogenannten Hangneigungswinkel und ist die Neigung der Geländeoberfläche gegenüber der Horizontalen entlang einer Falllinie (maximaler Neigungswinkel des Geländes).",
  "Category": "",
  "Version": "3.5.0",
  "AntialiasingMode": "Fast",
  "TextAntialiasingMode": "Force",
  "Keywords": "Hangneigung,Befreiung streifenförmige Aufbringung"
 },
 "supportsQueryDomains": true,
 "capabilities": "Map,Query,Data",
 "supportedQueryFormats": "JSON, geoJSON, PBF",
 "exportTilesAllowed": false,
 "referenceScale": 0.0,
 "datumTransformations": [
  {
   "geoTransforms": [
    {
     "wkid": 1149,
     "latestWkid": 1149,
     "transformForward": false,
     "name": "ETRS_1989_To_WGS_1984"
    }
   ]
  },
  {
   "geoTransforms": [
    {
     "wkid": 1149,
     "latestWkid": 1149,
     "transformForward": true,
     "name": "ETRS_1989_To_WGS_1984"
    }
   ]
  },
  {
   "geoTransforms": [
    {
     "wkid": 1149,
     "latestWkid": 1149,
     "transformForward": false,
     "name": "ETRS_1989_To_WGS_1984"
    }
   ]
  },
  {
   "geoTransforms": [
    {
     "wkid": 1149,
     "latestWkid": 1149,
     "transformForward": true,
     "name": "ETRS_1989_To_WGS_1984"
    }
   ]
  }
 ],
 "supportsDatumTransformation": true,
 "floorAwareMapProperties": {
  "defaultFloorFilterSettings": {
   "isEnabled": false
  }
 },
 "archivingInfo": {
  "supportsHistoricMoment": false
 },
 "supportsClipping": true,
 "supportsSpatialFilter": true,
 "supportsTimeRelation": true,
 "supportsQueryDataElements": true,
 "mapUnits": {
  "uwkid": 9001
 },
 "maxSelectionCount": 2000,
 "maxRecordCount": 5000,
 "maxImageHeight": 4096,
 "maxImageWidth": 4096,
 "supportedExtensions": "FeatureServer, WFSServer, WMSServer",
 "resampling": false,
 "serviceItemId": "38bf040524c14df4b4ee7c8acf652b19"
}
